Package: ASAFE Version: 1.30.0 Command: /home/biocbuild/R/R-beta-2024-04-15_r86425/bin/R CMD INSTALL ASAFE StartedAt: 2024-05-08 20:02:00 -0000 (Wed, 08 May 2024) EndedAt: 2024-05-08 20:02:17 -0000 (Wed, 08 May 2024) EllapsedTime: 16.5 seconds RetCode: 0 Status: OK