Package: ASAFE Version: 1.30.0 Command: /home/biocbuild/R/R-beta-2024-04-15_r86425/bin/R CMD build --keep-empty-dirs --no-resave-data ASAFE StartedAt: 2024-05-08 22:21:55 -0000 (Wed, 08 May 2024) EndedAt: 2024-05-08 22:22:02 -0000 (Wed, 08 May 2024) EllapsedTime: 7.0 seconds RetCode: 0 Status: OK PackageFile: ASAFE_1.30.0.tar.gz PackageFileSize: 394.2 KiB