Package: ARRmNormalization Version: 1.44.0 Command: /home/biocbuild/bbs-3.19-bioc/R/bin/R CMD INSTALL ARRmNormalization StartedAt: 2024-10-16 15:50:47 -0400 (Wed, 16 Oct 2024) EndedAt: 2024-10-16 15:50:56 -0400 (Wed, 16 Oct 2024) EllapsedTime: 9.4 seconds RetCode: 0 Status: OK