Package: APL Version: 1.8.0 Command: E:\biocbuild\bbs-3.19-bioc\R\bin\R.exe CMD INSTALL APL StartedAt: 2024-10-16 17:06:40 -0400 (Wed, 16 Oct 2024) EndedAt: 2024-10-16 17:07:40 -0400 (Wed, 16 Oct 2024) EllapsedTime: 60.3 seconds RetCode: 0 Status: OK