Package: APL Version: 1.8.0 Command: chmod a+r APL -R && E:\biocbuild\bbs-3.19-bioc\R\bin\R.exe CMD build --keep-empty-dirs --no-resave-data APL StartedAt: 2024-10-16 17:34:35 -0400 (Wed, 16 Oct 2024) EndedAt: 2024-10-16 17:39:17 -0400 (Wed, 16 Oct 2024) EllapsedTime: 282.3 seconds RetCode: 0 Status: OK PackageFile: APL_1.8.0.tar.gz PackageFileSize: 1.241 MiB