Package: APL Version: 1.8.0 Command: rm -rf APL.buildbin-libdir && mkdir APL.buildbin-libdir && E:\biocbuild\bbs-3.19-bioc\R\bin\R.exe CMD INSTALL --build --library=APL.buildbin-libdir APL_1.8.0.tar.gz StartedAt: 2024-10-17 07:20:24 -0400 (Thu, 17 Oct 2024) EndedAt: 2024-10-17 07:21:36 -0400 (Thu, 17 Oct 2024) EllapsedTime: 72.0 seconds RetCode: 0 Status: OK PackageFile: APL_1.8.0.zip PackageFileSize: 1.652 MiB