Package: APL Version: 1.8.0 Command: /Library/Frameworks/R.framework/Resources/bin/R CMD check --install=check:APL.install-out.txt --library=/Library/Frameworks/R.framework/Resources/library --no-vignettes --timings APL_1.8.0.tar.gz StartedAt: 2024-08-26 01:03:16 -0400 (Mon, 26 Aug 2024) EndedAt: 2024-08-26 01:15:38 -0400 (Mon, 26 Aug 2024) EllapsedTime: 742.0 seconds RetCode: 0 Status: OK CheckDir: APL.Rcheck Warnings: 0