Package: APL Version: 1.8.0 Command: /Library/Frameworks/R.framework/Resources/bin/R CMD build --keep-empty-dirs --no-resave-data APL StartedAt: 2024-10-16 17:04:32 -0400 (Wed, 16 Oct 2024) EndedAt: 2024-10-16 17:08:31 -0400 (Wed, 16 Oct 2024) EllapsedTime: 239.2 seconds RetCode: 1 Status: ERROR PackageFile: None PackageFileSize: NA