Package: APL Version: 1.8.0 Command: /home/biocbuild/R/R-beta-2024-04-15_r86425/bin/R CMD build --keep-empty-dirs --no-resave-data APL StartedAt: 2024-05-08 22:19:49 -0000 (Wed, 08 May 2024) EndedAt: 2024-05-08 22:25:22 -0000 (Wed, 08 May 2024) EllapsedTime: 333.4 seconds RetCode: 0 Status: OK PackageFile: APL_1.8.0.tar.gz PackageFileSize: 1.353 MiB