Package: APL Version: 1.8.0 Command: /Library/Frameworks/R.framework/Resources/bin/R CMD check --install=check:APL.install-out.txt --library=/Library/Frameworks/R.framework/Resources/library --no-vignettes --timings APL_1.8.0.tar.gz StartedAt: 2024-06-10 07:25:03 -0400 (Mon, 10 Jun 2024) EndedAt: 2024-06-10 07:33:41 -0400 (Mon, 10 Jun 2024) EllapsedTime: 517.6 seconds RetCode: 0 Status: OK CheckDir: APL.Rcheck Warnings: 0