Package: APL Version: 1.8.0 Command: /Library/Frameworks/R.framework/Resources/bin/R CMD build --keep-empty-dirs --no-resave-data APL StartedAt: 2024-06-09 18:04:33 -0400 (Sun, 09 Jun 2024) EndedAt: 2024-06-09 18:08:54 -0400 (Sun, 09 Jun 2024) EllapsedTime: 260.6 seconds RetCode: 0 Status: OK PackageFile: APL_1.8.0.tar.gz PackageFileSize: 2.829 MiB