Package: APL Version: 1.8.0 Command: /Library/Frameworks/R.framework/Resources/bin/R CMD build --keep-empty-dirs --no-resave-data APL StartedAt: 2024-10-16 19:26:07 -0400 (Wed, 16 Oct 2024) EndedAt: 2024-10-16 19:29:59 -0400 (Wed, 16 Oct 2024) EllapsedTime: 232.8 seconds RetCode: 0 Status: OK PackageFile: APL_1.8.0.tar.gz PackageFileSize: 2.83 MiB