Package: APL Version: 1.8.0 Command: rm -rf APL.buildbin-libdir && mkdir APL.buildbin-libdir && /Users/biocbuild/BBS/utils/build-universal.sh APL_1.8.0.tar.gz /Library/Frameworks/R.framework/Resources/bin/R APL.buildbin-libdir StartedAt: 2024-10-18 17:17:54 -0400 (Fri, 18 Oct 2024) EndedAt: 2024-10-18 17:19:04 -0400 (Fri, 18 Oct 2024) EllapsedTime: 70.7 seconds RetCode: 0 Status: OK PackageFile: APL_1.8.0.tgz PackageFileSize: 3.24 MiB