Package: APAlyzer Version: 1.18.0 Command: E:\biocbuild\bbs-3.19-bioc\R\bin\R.exe CMD INSTALL APAlyzer StartedAt: 2024-10-16 17:08:32 -0400 (Wed, 16 Oct 2024) EndedAt: 2024-10-16 17:09:29 -0400 (Wed, 16 Oct 2024) EllapsedTime: 56.4 seconds RetCode: 0 Status: OK