Package: APAlyzer Version: 1.18.0 Command: rm -rf APAlyzer.buildbin-libdir && mkdir APAlyzer.buildbin-libdir && E:\biocbuild\bbs-3.19-bioc\R\bin\R.exe CMD INSTALL --build --library=APAlyzer.buildbin-libdir APAlyzer_1.18.0.tar.gz StartedAt: 2024-10-17 07:20:17 -0400 (Thu, 17 Oct 2024) EndedAt: 2024-10-17 07:21:17 -0400 (Thu, 17 Oct 2024) EllapsedTime: 60.1 seconds RetCode: 0 Status: OK PackageFile: APAlyzer_1.18.0.zip PackageFileSize: 3.582 MiB