Package: APAlyzer Version: 1.18.0 Command: /home/biocbuild/bbs-3.19-bioc/R/bin/R CMD build --keep-empty-dirs --no-resave-data APAlyzer StartedAt: 2024-10-16 16:55:39 -0400 (Wed, 16 Oct 2024) EndedAt: 2024-10-16 16:57:20 -0400 (Wed, 16 Oct 2024) EllapsedTime: 101.2 seconds RetCode: 0 Status: OK PackageFile: APAlyzer_1.18.0.tar.gz PackageFileSize: 3.897 MiB