Package: APAlyzer Version: 1.18.0 Command: /home/biocbuild/R/R-beta-2024-04-15_r86425/bin/R CMD build --keep-empty-dirs --no-resave-data APAlyzer StartedAt: 2024-05-08 22:19:44 -0000 (Wed, 08 May 2024) EndedAt: 2024-05-08 22:22:00 -0000 (Wed, 08 May 2024) EllapsedTime: 136.2 seconds RetCode: 0 Status: OK PackageFile: APAlyzer_1.18.0.tar.gz PackageFileSize: 3.618 MiB