Package: ANF Version: 1.26.0 Command: rm -rf ANF.buildbin-libdir && mkdir ANF.buildbin-libdir && E:\biocbuild\bbs-3.19-bioc\R\bin\R.exe CMD INSTALL --build --library=ANF.buildbin-libdir ANF_1.26.0.tar.gz StartedAt: 2024-10-17 07:19:37 -0400 (Thu, 17 Oct 2024) EndedAt: 2024-10-17 07:19:50 -0400 (Thu, 17 Oct 2024) EllapsedTime: 12.6 seconds RetCode: 0 Status: OK PackageFile: ANF_1.26.0.zip PackageFileSize: 254.5 KiB