Package: ANF Version: 1.26.0 Command: /home/biocbuild/bbs-3.19-bioc/R/bin/R CMD build --keep-empty-dirs --no-resave-data ANF StartedAt: 2024-10-16 16:54:15 -0400 (Wed, 16 Oct 2024) EndedAt: 2024-10-16 17:34:15 -0400 (Wed, 16 Oct 2024) EllapsedTime: 2400.0 seconds RetCode: None Status: TIMEOUT PackageFile: None PackageFileSize: NA