Package: ANF Version: 1.26.0 Command: /Library/Frameworks/R.framework/Resources/bin/R CMD build --keep-empty-dirs --no-resave-data ANF StartedAt: 2024-06-09 15:50:04 -0400 (Sun, 09 Jun 2024) EndedAt: 2024-06-09 15:53:35 -0400 (Sun, 09 Jun 2024) EllapsedTime: 210.6 seconds RetCode: 0 Status: OK PackageFile: ANF_1.26.0.tar.gz PackageFileSize: 683 KiB