Package: ANF Version: 1.26.0 Command: rm -rf ANF.buildbin-libdir && mkdir ANF.buildbin-libdir && /Users/biocbuild/BBS/utils/build-universal.sh ANF_1.26.0.tar.gz /Library/Frameworks/R.framework/Resources/bin/R ANF.buildbin-libdir StartedAt: 2024-06-10 00:06:26 -0400 (Mon, 10 Jun 2024) EndedAt: 2024-06-10 00:06:37 -0400 (Mon, 10 Jun 2024) EllapsedTime: 11.3 seconds RetCode: 0 Status: OK PackageFile: ANF_1.26.0.tgz PackageFileSize: 250.9 KiB