Package: ANF Version: 1.26.0 Command: /home/biocbuild/R/R-beta-2024-04-15_r86425/bin/R CMD check --install=check:ANF.install-out.txt --library=/home/biocbuild/R/R-beta-2024-04-15_r86425/site-library --no-vignettes --timings ANF_1.26.0.tar.gz StartedAt: 2024-05-06 04:46:13 -0000 (Mon, 06 May 2024) EndedAt: 2024-05-06 04:48:04 -0000 (Mon, 06 May 2024) EllapsedTime: 111.2 seconds RetCode: 0 Status: OK CheckDir: ANF.Rcheck Warnings: 0