Package: ANF Version: 1.26.0 Command: rm -rf ANF.buildbin-libdir && mkdir ANF.buildbin-libdir && /Users/biocbuild/BBS/utils/build-universal.sh ANF_1.26.0.tar.gz /Library/Frameworks/R.framework/Resources/bin/R ANF.buildbin-libdir StartedAt: 2024-06-11 10:07:02 -0400 (Tue, 11 Jun 2024) EndedAt: 2024-06-11 10:07:17 -0400 (Tue, 11 Jun 2024) EllapsedTime: 15.4 seconds RetCode: 0 Status: OK PackageFile: ANF_1.26.0.tgz PackageFileSize: 251.3 KiB