Package: ANCOMBC Version: 2.6.0 Command: chmod a+r ANCOMBC -R && E:\biocbuild\bbs-3.19-bioc\R\bin\R.exe CMD build --keep-empty-dirs --no-resave-data ANCOMBC StartedAt: 2024-10-16 17:32:26 -0400 (Wed, 16 Oct 2024) EndedAt: 2024-10-16 17:44:46 -0400 (Wed, 16 Oct 2024) EllapsedTime: 739.8 seconds RetCode: 1 Status: ERROR PackageFile: None PackageFileSize: NA