Package: ANCOMBC Version: 2.6.0 Command: /home/biocbuild/bbs-3.19-bioc/R/bin/R CMD check --install=check:ANCOMBC.install-out.txt --library=/home/biocbuild/bbs-3.19-bioc/R/site-library --timings ANCOMBC_2.6.0.tar.gz StartedAt: 2024-07-28 21:00:16 -0400 (Sun, 28 Jul 2024) EndedAt: 2024-07-28 21:19:34 -0400 (Sun, 28 Jul 2024) EllapsedTime: 1158.0 seconds RetCode: 0 Status: OK CheckDir: ANCOMBC.Rcheck Warnings: 0