Package: ANCOMBC Version: 2.6.0 Command: /Library/Frameworks/R.framework/Resources/bin/R CMD build --keep-empty-dirs --no-resave-data ANCOMBC StartedAt: 2024-10-16 19:18:12 -0400 (Wed, 16 Oct 2024) EndedAt: 2024-10-16 19:29:13 -0400 (Wed, 16 Oct 2024) EllapsedTime: 661.2 seconds RetCode: 1 Status: ERROR PackageFile: None PackageFileSize: NA