Package: AMOUNTAIN Version: 1.30.0 Command: rm -rf AMOUNTAIN.buildbin-libdir && mkdir AMOUNTAIN.buildbin-libdir && F:\biocbuild\bbs-3.19-bioc\R\bin\R.exe CMD INSTALL --build --library=AMOUNTAIN.buildbin-libdir AMOUNTAIN_1.30.0.tar.gz StartedAt: 2024-06-27 07:49:12 -0400 (Thu, 27 Jun 2024) EndedAt: 2024-06-27 07:49:25 -0400 (Thu, 27 Jun 2024) EllapsedTime: 12.4 seconds RetCode: 0 Status: OK PackageFile: AMOUNTAIN_1.30.0.zip PackageFileSize: 1.131 MiB