Package: AMOUNTAIN Version: 1.30.0 Command: /home/biocbuild/bbs-3.19-bioc/R/bin/R CMD build --keep-empty-dirs --no-resave-data AMOUNTAIN StartedAt: 2024-10-16 16:54:01 -0400 (Wed, 16 Oct 2024) EndedAt: 2024-10-16 16:54:15 -0400 (Wed, 16 Oct 2024) EllapsedTime: 14.0 seconds RetCode: 0 Status: OK PackageFile: AMOUNTAIN_1.30.0.tar.gz PackageFileSize: 1.607 MiB