Package: AMOUNTAIN Version: 1.30.0 Command: /Library/Frameworks/R.framework/Resources/bin/R CMD check --install=check:AMOUNTAIN.install-out.txt --library=/Library/Frameworks/R.framework/Resources/library --no-vignettes --timings AMOUNTAIN_1.30.0.tar.gz StartedAt: 2024-10-17 12:11:00 -0400 (Thu, 17 Oct 2024) EndedAt: 2024-10-17 12:11:30 -0400 (Thu, 17 Oct 2024) EllapsedTime: 29.9 seconds RetCode: 0 Status: OK CheckDir: AMOUNTAIN.Rcheck Warnings: 0