Package: AMOUNTAIN Version: 1.30.0 Command: /Library/Frameworks/R.framework/Resources/bin/R CMD build --keep-empty-dirs --no-resave-data AMOUNTAIN StartedAt: 2024-10-16 19:17:59 -0400 (Wed, 16 Oct 2024) EndedAt: 2024-10-16 19:18:21 -0400 (Wed, 16 Oct 2024) EllapsedTime: 21.8 seconds RetCode: 0 Status: OK PackageFile: AMOUNTAIN_1.30.0.tar.gz PackageFileSize: 1.698 MiB