Package: AMARETTO Version: 1.20.0 Command: E:\biocbuild\bbs-3.19-bioc\R\bin\R.exe CMD check --no-multiarch --install=check:AMARETTO.install-out.txt --library=E:\biocbuild\bbs-3.19-bioc\R\library --no-vignettes --timings AMARETTO_1.20.0.tar.gz StartedAt: 2024-10-16 22:47:29 -0400 (Wed, 16 Oct 2024) EndedAt: 2024-10-16 22:54:27 -0400 (Wed, 16 Oct 2024) EllapsedTime: 419.0 seconds RetCode: 0 Status: WARNINGS CheckDir: AMARETTO.Rcheck Warnings: 1