Package: AMARETTO Version: 1.20.0 Command: chmod a+r AMARETTO -R && E:\biocbuild\bbs-3.19-bioc\R\bin\R.exe CMD build --keep-empty-dirs --no-resave-data AMARETTO StartedAt: 2024-10-16 17:32:14 -0400 (Wed, 16 Oct 2024) EndedAt: 2024-10-16 17:33:38 -0400 (Wed, 16 Oct 2024) EllapsedTime: 84.1 seconds RetCode: 0 Status: OK PackageFile: AMARETTO_1.20.0.tar.gz PackageFileSize: 3.174 MiB