Package: AMARETTO Version: 1.20.0 Command: rm -rf AMARETTO.buildbin-libdir && mkdir AMARETTO.buildbin-libdir && E:\biocbuild\bbs-3.19-bioc\R\bin\R.exe CMD INSTALL --build --library=AMARETTO.buildbin-libdir AMARETTO_1.20.0.tar.gz StartedAt: 2024-10-17 07:19:25 -0400 (Thu, 17 Oct 2024) EndedAt: 2024-10-17 07:20:23 -0400 (Thu, 17 Oct 2024) EllapsedTime: 57.4 seconds RetCode: 0 Status: OK PackageFile: AMARETTO_1.20.0.zip PackageFileSize: 3.383 MiB