Package: AMARETTO Version: 1.20.0 Command: chmod a+r AMARETTO -R && F:\biocbuild\bbs-3.19-bioc\R\bin\R.exe CMD build --keep-empty-dirs --no-resave-data AMARETTO StartedAt: 2024-06-26 17:03:34 -0400 (Wed, 26 Jun 2024) EndedAt: 2024-06-26 17:04:57 -0400 (Wed, 26 Jun 2024) EllapsedTime: 82.7 seconds RetCode: 0 Status: OK PackageFile: AMARETTO_1.20.0.tar.gz PackageFileSize: 3.209 MiB