Package: AMARETTO Version: 1.20.0 Command: /home/biocbuild/bbs-3.19-bioc/R/bin/R CMD INSTALL AMARETTO StartedAt: 2024-10-16 16:27:27 -0400 (Wed, 16 Oct 2024) EndedAt: 2024-10-16 16:28:02 -0400 (Wed, 16 Oct 2024) EllapsedTime: 34.4 seconds RetCode: 0 Status: OK