Package: AMARETTO Version: 1.20.0 Command: /home/biocbuild/bbs-3.19-bioc/R/bin/R CMD build --keep-empty-dirs --no-resave-data AMARETTO StartedAt: 2024-10-16 16:54:00 -0400 (Wed, 16 Oct 2024) EndedAt: 2024-10-16 16:54:52 -0400 (Wed, 16 Oct 2024) EllapsedTime: 52.1 seconds RetCode: 0 Status: OK PackageFile: AMARETTO_1.20.0.tar.gz PackageFileSize: 3.233 MiB