Package: AMARETTO Version: 1.20.0 Command: /Library/Frameworks/R.framework/Resources/bin/R CMD INSTALL AMARETTO StartedAt: 2024-10-16 16:15:33 -0400 (Wed, 16 Oct 2024) EndedAt: 2024-10-16 16:16:53 -0400 (Wed, 16 Oct 2024) EllapsedTime: 80.1 seconds RetCode: 0 Status: OK