Package: AMARETTO Version: 1.20.0 Command: /Library/Frameworks/R.framework/Resources/bin/R CMD check --install=check:AMARETTO.install-out.txt --library=/Library/Frameworks/R.framework/Resources/library --no-vignettes --timings AMARETTO_1.20.0.tar.gz StartedAt: 2024-10-17 00:58:54 -0400 (Thu, 17 Oct 2024) EndedAt: 2024-10-17 01:09:35 -0400 (Thu, 17 Oct 2024) EllapsedTime: 641.2 seconds RetCode: 0 Status: WARNINGS CheckDir: AMARETTO.Rcheck Warnings: 1