Package: ALDEx2 Version: 1.36.0 Command: E:\biocbuild\bbs-3.19-bioc\R\bin\R.exe CMD INSTALL ALDEx2 StartedAt: 2024-10-16 17:04:31 -0400 (Wed, 16 Oct 2024) EndedAt: 2024-10-16 17:05:10 -0400 (Wed, 16 Oct 2024) EllapsedTime: 39.4 seconds RetCode: 0 Status: OK