Package: ALDEx2 Version: 1.36.0 Command: E:\biocbuild\bbs-3.19-bioc\R\bin\R.exe CMD check --no-multiarch --install=check:ALDEx2.install-out.txt --library=E:\biocbuild\bbs-3.19-bioc\R\library --no-vignettes --timings ALDEx2_1.36.0.tar.gz StartedAt: 2024-10-16 22:46:22 -0400 (Wed, 16 Oct 2024) EndedAt: 2024-10-16 22:51:09 -0400 (Wed, 16 Oct 2024) EllapsedTime: 286.5 seconds RetCode: 0 Status: OK CheckDir: ALDEx2.Rcheck Warnings: 0