Package: ALDEx2 Version: 1.36.0 Command: /home/biocbuild/bbs-3.19-bioc/R/bin/R CMD check --install=check:ALDEx2.install-out.txt --library=/home/biocbuild/bbs-3.19-bioc/R/site-library --timings ALDEx2_1.36.0.tar.gz StartedAt: 2024-10-16 21:33:45 -0400 (Wed, 16 Oct 2024) EndedAt: 2024-10-16 21:38:59 -0400 (Wed, 16 Oct 2024) EllapsedTime: 313.6 seconds RetCode: 0 Status: OK CheckDir: ALDEx2.Rcheck Warnings: 0