Package: ALDEx2 Version: 1.36.0 Command: /home/biocbuild/bbs-3.19-bioc/R/bin/R CMD build --keep-empty-dirs --no-resave-data ALDEx2 StartedAt: 2024-10-16 16:53:42 -0400 (Wed, 16 Oct 2024) EndedAt: 2024-10-16 16:55:19 -0400 (Wed, 16 Oct 2024) EllapsedTime: 97.2 seconds RetCode: 0 Status: OK PackageFile: ALDEx2_1.36.0.tar.gz PackageFileSize: 2.883 MiB