Package: AIMS Version: 1.36.0 Command: /Library/Frameworks/R.framework/Resources/bin/R CMD build --keep-empty-dirs --no-resave-data AIMS StartedAt: 2024-06-09 17:55:14 -0400 (Sun, 09 Jun 2024) EndedAt: 2024-06-09 17:55:36 -0400 (Sun, 09 Jun 2024) EllapsedTime: 21.5 seconds RetCode: 0 Status: OK PackageFile: AIMS_1.36.0.tar.gz PackageFileSize: 484.3 KiB