Package: AIMS Version: 1.36.0 Command: /Library/Frameworks/R.framework/Resources/bin/R CMD build --keep-empty-dirs --no-resave-data AIMS StartedAt: 2024-10-16 19:12:11 -0400 (Wed, 16 Oct 2024) EndedAt: 2024-10-16 19:12:33 -0400 (Wed, 16 Oct 2024) EllapsedTime: 21.7 seconds RetCode: 0 Status: OK PackageFile: AIMS_1.36.0.tar.gz PackageFileSize: 484.4 KiB