Package: AHMassBank Version: 1.4.0 Command: E:\biocbuild\bbs-3.19-bioc\R\bin\R.exe CMD INSTALL AHMassBank StartedAt: 2024-10-16 16:46:54 -0400 (Wed, 16 Oct 2024) EndedAt: 2024-10-16 16:47:38 -0400 (Wed, 16 Oct 2024) EllapsedTime: 44.5 seconds RetCode: 0 Status: OK