Package: AHMassBank Version: 1.4.0 Command: E:\biocbuild\bbs-3.19-bioc\R\bin\R.exe CMD check --no-multiarch --install=check:AHMassBank.install-out.txt --library=E:\biocbuild\bbs-3.19-bioc\R\library --no-vignettes --timings AHMassBank_1.4.0.tar.gz StartedAt: 2024-10-16 22:44:30 -0400 (Wed, 16 Oct 2024) EndedAt: 2024-10-16 22:49:11 -0400 (Wed, 16 Oct 2024) EllapsedTime: 281.6 seconds RetCode: 0 Status: OK CheckDir: AHMassBank.Rcheck Warnings: 0