Package: AHMassBank Version: 1.4.0 Command: chmod a+r AHMassBank -R && E:\biocbuild\bbs-3.19-bioc\R\bin\R.exe CMD build --keep-empty-dirs --no-resave-data AHMassBank StartedAt: 2024-10-16 17:30:30 -0400 (Wed, 16 Oct 2024) EndedAt: 2024-10-16 17:31:43 -0400 (Wed, 16 Oct 2024) EllapsedTime: 73.1 seconds RetCode: 0 Status: OK PackageFile: AHMassBank_1.4.0.tar.gz PackageFileSize: 293.4 KiB