Package: AHMassBank Version: 1.4.0 Command: chmod a+r AHMassBank -R && F:\biocbuild\bbs-3.19-bioc\R\bin\R.exe CMD build --keep-empty-dirs --no-resave-data AHMassBank StartedAt: 2024-06-26 17:01:48 -0400 (Wed, 26 Jun 2024) EndedAt: 2024-06-26 17:03:01 -0400 (Wed, 26 Jun 2024) EllapsedTime: 73.1 seconds RetCode: 0 Status: OK PackageFile: AHMassBank_1.4.0.tar.gz PackageFileSize: 293.4 KiB