Package: AHMassBank Version: 1.4.0 Command: rm -rf AHMassBank.buildbin-libdir && mkdir AHMassBank.buildbin-libdir && F:\biocbuild\bbs-3.19-bioc\R\bin\R.exe CMD INSTALL --build --library=AHMassBank.buildbin-libdir AHMassBank_1.4.0.tar.gz StartedAt: 2024-06-27 07:48:31 -0400 (Thu, 27 Jun 2024) EndedAt: 2024-06-27 07:49:27 -0400 (Thu, 27 Jun 2024) EllapsedTime: 56.0 seconds RetCode: 0 Status: OK PackageFile: AHMassBank_1.4.0.zip PackageFileSize: 307.3 KiB