Package: AHMassBank Version: 1.4.0 Command: /home/biocbuild/bbs-3.19-bioc/R/bin/R CMD INSTALL AHMassBank StartedAt: 2024-10-16 16:16:48 -0400 (Wed, 16 Oct 2024) EndedAt: 2024-10-16 16:17:27 -0400 (Wed, 16 Oct 2024) EllapsedTime: 39.5 seconds RetCode: 0 Status: OK